
BEGIN:VCALENDAR
VERSION:2.0
PRODID:-//Frame Holland - ECPv6.15.20//NONSGML v1.0//EN
CALSCALE:GREGORIAN
METHOD:PUBLISH
X-WR-CALNAME:Frame Holland
X-ORIGINAL-URL:https://frameholland.com
X-WR-CALDESC:Evenementen voor Frame Holland
REFRESH-INTERVAL;VALUE=DURATION:PT1H
X-Robots-Tag:noindex
X-PUBLISHED-TTL:PT1H
BEGIN:VTIMEZONE
TZID:Europe/Paris
BEGIN:DAYLIGHT
TZOFFSETFROM:+0100
TZOFFSETTO:+0200
TZNAME:CEST
DTSTART:20250330T010000
END:DAYLIGHT
BEGIN:STANDARD
TZOFFSETFROM:+0200
TZOFFSETTO:+0100
TZNAME:CET
DTSTART:20251026T010000
END:STANDARD
BEGIN:DAYLIGHT
TZOFFSETFROM:+0100
TZOFFSETTO:+0200
TZNAME:CEST
DTSTART:20260329T010000
END:DAYLIGHT
BEGIN:STANDARD
TZOFFSETFROM:+0200
TZOFFSETTO:+0100
TZNAME:CET
DTSTART:20261025T010000
END:STANDARD
BEGIN:DAYLIGHT
TZOFFSETFROM:+0100
TZOFFSETTO:+0200
TZNAME:CEST
DTSTART:20270328T010000
END:DAYLIGHT
BEGIN:STANDARD
TZOFFSETFROM:+0200
TZOFFSETTO:+0100
TZNAME:CET
DTSTART:20271031T010000
END:STANDARD
END:VTIMEZONE
BEGIN:VEVENT
DTSTART;VALUE=DATE:20260302
DTEND;VALUE=DATE:20260303
DTSTAMP:20260423T072530
CREATED:20251211T094638Z
LAST-MODIFIED:20251211T101036Z
UID:6176-1772409600-1772495999@frameholland.com
SUMMARY:BOLD Light 2026
DESCRIPTION:Na het succes van de vorige editie organiseert Bold Optical Fair op maandag 2 maart 2026 opnieuw een eendaagse inkoopdag voor de optiekbranche. \nDit laagdrempelige event vindt plaats in De Hertog hal\, de moderne\, gerenoveerde\, sfeervolle zaal van de Brabanthallen in ’s-Hertogenbosch. Een overzichtelijke en inspirerende locatie waar opticiens en leveranciers elkaar ontmoeten\, nieuwe collecties ontdekken en het voorjaar inkopen.
URL:https://frameholland.com/event/bold-light-2026/
LOCATION:De Brabanthallen Den Bosch\, Diezekade 1\, 's-Hertogenbosch\, Noord-Brabant\, 5222AK\, Nederland
ATTACH;FMTTYPE=image/png:https://frameholland.com/wp-content/uploads/2022/12/Bold-zwart-los.png
END:VEVENT
BEGIN:VEVENT
DTSTART;VALUE=DATE:20260316
DTEND;VALUE=DATE:20260317
DTSTAMP:20260423T072530
CREATED:20251211T095911Z
LAST-MODIFIED:20251211T095911Z
UID:6186-1773619200-1773705599@frameholland.com
SUMMARY:Belgoptic Antwerp EXPO 2026
DESCRIPTION:Belgoptic & Luxoptic kondigen de Showroom Events 2026 aan in Antwerp Expo en Europahall Parc Alvisse \nNa de geslaagde edities in 2025 in Louvain-La-Neuve en Luxemburg bereiden we ons volop voor op een nieuwe dubbele afspraak voor de optieksector.
URL:https://frameholland.com/event/belgoptic-antwerp-expo-2026/
LOCATION:Antwerp Expo\, Jan Van Rijswijcklaan 191\, Antwerpen\, 2020\, Belgium
ATTACH;FMTTYPE=image/png:https://frameholland.com/wp-content/uploads/2024/03/belgoptic-logo.png
END:VEVENT
BEGIN:VEVENT
DTSTART;VALUE=DATE:20260322
DTEND;VALUE=DATE:20260323
DTSTAMP:20260423T072530
CREATED:20251211T100547Z
LAST-MODIFIED:20251211T100547Z
UID:6193-1774137600-1774223999@frameholland.com
SUMMARY:Luxoptic
DESCRIPTION:Belgoptic & Luxoptic kondigen de Showroom Events 2026 aan in Antwerp Expo en Europahall Parc Alvisse \nNa de geslaagde edities in 2025 in Louvain-La-Neuve en Luxemburg bereiden we ons volop voor op een nieuwe dubbele afspraak voor de optieksector.
URL:https://frameholland.com/event/luxoptic-2026/
LOCATION:Parc Hotel Alvisse\, Route d'Echternach 120\, Luxembourg\, 1453\, Luxembourg
ATTACH;FMTTYPE=image/png:https://frameholland.com/wp-content/uploads/2024/03/belgoptic-logo.png
END:VEVENT
END:VCALENDAR